BEGIN:VCALENDAR
VERSION:2.0
PRODID:icalendar-ruby
CALSCALE:GREGORIAN
METHOD:PUBLISH
BEGIN:VEVENT
DTSTAMP:20260421T105943Z
UID:13-481137@otterbeinelkins.org
DTSTART:20260618T010000Z
DTEND:20260618T020000Z
CLASS:PUBLIC
CREATED:20260420T182352
DESCRIPTION:
LAST-MODIFIED:20260420T182352
LOCATION:Otterbein United Methodist Church
SUMMARY:Choir Practice
URL;VALUE=URI:https://www.otterbeinelkins.org/events/choir-practice/2026-06
 -17
END:VEVENT
END:VCALENDAR
