BEGIN:VCALENDAR
VERSION:2.0
PRODID:icalendar-ruby
CALSCALE:GREGORIAN
METHOD:PUBLISH
BEGIN:VEVENT
DTSTAMP:20260419T150328Z
UID:13-476391@otterbeinelkins.org
DTSTART:20260709T010000Z
DTEND:20260709T020000Z
CLASS:PUBLIC
CREATED:20260419T063614
DESCRIPTION:
LAST-MODIFIED:20260419T063614
LOCATION:Otterbein United Methodist Church
SUMMARY:Choir Practice
URL;VALUE=URI:https://www.otterbeinelkins.org/events/choir-practice/2026-07
 -08
END:VEVENT
END:VCALENDAR
