BEGIN:VCALENDAR
VERSION:2.0
PRODID:icalendar-ruby
CALSCALE:GREGORIAN
METHOD:PUBLISH
BEGIN:VEVENT
DTSTAMP:20260419T194337Z
UID:13-476821@otterbeinelkins.org
DTSTART:20260716T010000Z
DTEND:20260716T020000Z
CLASS:PUBLIC
CREATED:20260419T101810
DESCRIPTION:
LAST-MODIFIED:20260419T101810
LOCATION:Otterbein United Methodist Church
SUMMARY:Choir Practice
URL;VALUE=URI:https://www.otterbeinelkins.org/events/choir-practice/2026-07
 -15
END:VEVENT
END:VCALENDAR
