BEGIN:VCALENDAR
VERSION:2.0
PRODID:icalendar-ruby
CALSCALE:GREGORIAN
METHOD:PUBLISH
BEGIN:VEVENT
DTSTAMP:20260419T233900Z
UID:13-477254@otterbeinelkins.org
DTSTART:20260723T010000Z
DTEND:20260723T020000Z
CLASS:PUBLIC
CREATED:20260419T140035
DESCRIPTION:
LAST-MODIFIED:20260419T140035
LOCATION:Otterbein United Methodist Church
SUMMARY:Choir Practice
URL;VALUE=URI:https://www.otterbeinelkins.org/events/choir-practice/2026-07
 -22
END:VEVENT
END:VCALENDAR
