BEGIN:VCALENDAR
VERSION:2.0
PRODID:icalendar-ruby
CALSCALE:GREGORIAN
METHOD:PUBLISH
BEGIN:VEVENT
DTSTAMP:20260420T034637Z
UID:13-477687@otterbeinelkins.org
DTSTART:20260730T010000Z
DTEND:20260730T020000Z
CLASS:PUBLIC
CREATED:20260419T174223
DESCRIPTION:
LAST-MODIFIED:20260419T174223
LOCATION:Otterbein United Methodist Church
SUMMARY:Choir Practice
URL;VALUE=URI:https://www.otterbeinelkins.org/events/choir-practice/2026-07
 -29
END:VEVENT
END:VCALENDAR
