BEGIN:VCALENDAR
VERSION:2.0
PRODID:icalendar-ruby
CALSCALE:GREGORIAN
METHOD:PUBLISH
BEGIN:VEVENT
DTSTAMP:20260422T155434Z
UID:13-484601@otterbeinelkins.org
DTSTART:20260813T010000Z
DTEND:20260813T020000Z
CLASS:PUBLIC
CREATED:20260422T084403
DESCRIPTION:
LAST-MODIFIED:20260422T084403
LOCATION:Otterbein United Methodist Church
SUMMARY:Choir Practice
URL;VALUE=URI:https://www.otterbeinelkins.org/events/choir-practice/2026-08
 -12
END:VEVENT
END:VCALENDAR
