BEGIN:VCALENDAR
VERSION:2.0
PRODID:icalendar-ruby
CALSCALE:GREGORIAN
METHOD:PUBLISH
BEGIN:VEVENT
DTSTAMP:20260422T203451Z
UID:13-485034@otterbeinelkins.org
DTSTART:20260820T010000Z
DTEND:20260820T020000Z
CLASS:PUBLIC
CREATED:20260422T113832
DESCRIPTION:
LAST-MODIFIED:20260422T113832
LOCATION:Otterbein United Methodist Church
SUMMARY:Choir Practice
URL;VALUE=URI:https://www.otterbeinelkins.org/events/choir-practice/2026-08
 -19
END:VEVENT
END:VCALENDAR
