BEGIN:VCALENDAR
VERSION:2.0
PRODID:icalendar-ruby
CALSCALE:GREGORIAN
METHOD:PUBLISH
BEGIN:VEVENT
DTSTAMP:20260423T010349Z
UID:13-485899@otterbeinelkins.org
DTSTART:20260827T010000Z
DTEND:20260827T020000Z
CLASS:PUBLIC
CREATED:20260422T172525
DESCRIPTION:
LAST-MODIFIED:20260422T172525
LOCATION:Otterbein United Methodist Church
SUMMARY:Choir Practice
URL;VALUE=URI:https://www.otterbeinelkins.org/events/choir-practice/2026-08
 -26
END:VEVENT
END:VCALENDAR
