BEGIN:VCALENDAR
VERSION:2.0
PRODID:icalendar-ruby
CALSCALE:GREGORIAN
METHOD:PUBLISH
BEGIN:VEVENT
DTSTAMP:20260423T054958Z
UID:13-486332@otterbeinelkins.org
DTSTART:20260903T010000Z
DTEND:20260903T020000Z
CLASS:PUBLIC
CREATED:20260422T201958
DESCRIPTION:
LAST-MODIFIED:20260422T201958
LOCATION:Otterbein United Methodist Church
SUMMARY:Choir Practice
URL;VALUE=URI:https://www.otterbeinelkins.org/events/choir-practice/2026-09
 -02
END:VEVENT
END:VCALENDAR
