BEGIN:VCALENDAR
VERSION:2.0
PRODID:icalendar-ruby
CALSCALE:GREGORIAN
METHOD:PUBLISH
BEGIN:VEVENT
DTSTAMP:20260423T225004Z
UID:13-488068@otterbeinelkins.org
DTSTART:20261001T010000Z
DTEND:20261001T020000Z
CLASS:PUBLIC
CREATED:20260423T143409
DESCRIPTION:
LAST-MODIFIED:20260423T143409
LOCATION:Otterbein United Methodist Church
SUMMARY:Choir Practice
URL;VALUE=URI:https://www.otterbeinelkins.org/events/choir-practice/2026-09
 -30
END:VEVENT
END:VCALENDAR
