BEGIN:VCALENDAR
VERSION:2.0
PRODID:icalendar-ruby
CALSCALE:GREGORIAN
METHOD:PUBLISH
BEGIN:VEVENT
DTSTAMP:20260424T025247Z
UID:13-488503@otterbeinelkins.org
DTSTART:20261015T010000Z
DTEND:20261015T020000Z
CLASS:PUBLIC
CREATED:20260423T172702
DESCRIPTION:
LAST-MODIFIED:20260423T172702
LOCATION:Otterbein United Methodist Church
SUMMARY:Choir Practice
URL;VALUE=URI:https://www.otterbeinelkins.org/events/choir-practice/2026-10
 -14
END:VEVENT
END:VCALENDAR
