BEGIN:VCALENDAR
VERSION:2.0
PRODID:icalendar-ruby
CALSCALE:GREGORIAN
METHOD:PUBLISH
BEGIN:VEVENT
DTSTAMP:20260424T071023Z
UID:13-488939@otterbeinelkins.org
DTSTART:20261105T020000Z
DTEND:20261105T030000Z
CLASS:PUBLIC
CREATED:20260423T202149
DESCRIPTION:
LAST-MODIFIED:20260423T202149
LOCATION:Otterbein United Methodist Church
SUMMARY:Choir Practice
URL;VALUE=URI:https://www.otterbeinelkins.org/events/choir-practice/2026-11
 -04
END:VEVENT
END:VCALENDAR
