BEGIN:VCALENDAR
VERSION:2.0
PRODID:icalendar-ruby
CALSCALE:GREGORIAN
METHOD:PUBLISH
BEGIN:VEVENT
DTSTAMP:20260421T024058Z
UID:6-481031@otterbeinelkins.org
DTSTART:20260913T170000Z
DTEND:20260913T180000Z
CLASS:PUBLIC
CREATED:20260420T182351
DESCRIPTION:Rejoice and renew with us during Pastor Cindy Morgan-Robert's s
 ermon this sunday. All are welcome\, bring family and friends. 
LAST-MODIFIED:20260420T182351
LOCATION:1100 S. Davis Street Elkins\, WV
SUMMARY:Otterbein Sunday Service
URL;VALUE=URI:https://www.otterbeinelkins.org/events/otterbein-sunday-servi
 ce/2026-09-13
ATTACH;FILENAME=20251029_110028.jpg;FMTTYPE=image/jpeg:https://dq5pwpg1q8ru
 0.cloudfront.net/2025/10/29/19/04/53/a3469818-ce62-411f-8cc0-9a3de79a065d/
 20251029_110028.jpg
END:VEVENT
END:VCALENDAR
